BEGIN:VCALENDAR
VERSION:2.0
METHOD:PUBLISH
PRODID:-//Accessible Web Design//My Calendar//http://www.joedolson.com//v//EN';
BEGIN:VEVENT
UID:24-24
LOCATION:
SUMMARY:NextGen@ICANN
DTSTAMP:20220824T110000
ORGANIZER;CN=ctrlweb:MAILTO:manuel.ponce@anuies.mx
DTSTART:20220824T110000
DTEND:20220824T123000
CATEGORIES:General
URL;VALUE=URI:https://cediies.anuies.mx/mc-events/nextgenicann/?mc_id=24
DESCRIPTION:Más información
END:VEVENT
END:VCALENDAR